BEGIN:VCALENDAR
VERSION:2.0
PRODID:-//ChamberMaster//Event Calendar 2.0//EN
METHOD:PUBLISH
X-PUBLISHED-TTL:P3D
REFRESH-INTERVAL:P3D
CALSCALE:GREGORIAN
BEGIN:VEVENT
DTSTART:20191108T220000Z
DTEND:20191109T010000Z
X-MICROSOFT-CDO-ALLDAYEVENT:FALSE
SUMMARY:Wool & Vine Wine Bar Ribbon Cutting
DESCRIPTION:WOOL & VINE WINE BAR - Ribbon Cutting Ceremony\n\n	Local Wines\n	Art Gallery\n	Listening Room\n	Lite Plates
X-ALT-DESC;FMTTYPE=text/html:<span style="color:#000080\;"><strong><span style="font-size:20px\;">WOOL &amp\; VINE WINE BAR - Ribbon Cutting Ceremony</span></strong></span>\n<ul>\n	<li><span style="font-size:20px\;"><span style="color:#000080\;">Local Wines</span></span></li>\n	<li><span style="font-size:20px\;"><span style="color:#000080\;">Art Gallery</span></span></li>\n	<li><span style="font-size:20px\;"><span style="color:#000080\;">Listening Room</span></span></li>\n	<li><span style="font-size:20px\;"><span style="color:#000080\;">Lite Plates</span></span></li>\n</ul>\n
LOCATION:415-C East Third St. Lampasas\, TX 76550 (on the square)
UID:e.2246.7652
SEQUENCE:3
DTSTAMP:20260423T194131Z
URL:https://business.lampasaschamber.org/events/details/wool-vine-wine-bar-ribbon-cutting-7652
END:VEVENT

END:VCALENDAR
