BEGIN:VCALENDAR
VERSION:2.0
PRODID:-//ChamberMaster//Event Calendar 2.0//EN
METHOD:PUBLISH
X-PUBLISHED-TTL:P3D
REFRESH-INTERVAL:P3D
CALSCALE:GREGORIAN
BEGIN:VEVENT
DTSTART;VALUE=DATE:20240323
DTEND;VALUE=DATE:20240324
TRANSP:TRANSPARENT
X-MICROSOFT-CDO-ALLDAYEVENT:TRUE
SUMMARY:Winery Comedy Tour-3/23/2024
DESCRIPTION:Torry Na Lochs\n\nWinery Comedy Tour\n\nDoors open at 6:30pm\n\nShow Starts at 7:00pm
X-ALT-DESC;FMTTYPE=text/html:<span style="color:#800080\;"><span style="font-family:arial\;"><strong><span style="font-size:28px\;">Torry Na Lochs<br />\nWinery Comedy Tour<br />\nDoors open at 6:30pm<br />\nShow Starts at 7:00pm</span></strong></span></span>
LOCATION:7055 W State Hwy 29 Burnet\, TX 78611
UID:e.2246.10083
SEQUENCE:3
DTSTAMP:20260419T125325Z
URL:https://business.lampasaschamber.org/events/details/winery-comedy-tour-3-23-2024-10083
END:VEVENT

END:VCALENDAR
