BEGIN:VCALENDAR
VERSION:2.0
PRODID:-//ChamberMaster//Event Calendar 2.0//EN
METHOD:PUBLISH
X-PUBLISHED-TTL:P3D
REFRESH-INTERVAL:P3D
CALSCALE:GREGORIAN
BEGIN:VEVENT
DTSTART;VALUE=DATE:20240405
DTEND;VALUE=DATE:20240409
TRANSP:TRANSPARENT
X-MICROSOFT-CDO-ALLDAYEVENT:TRUE
SUMMARY:Total Solar Eclipse 2024 Viewing Sites Available Double Horn Ranch
DESCRIPTION:Megan Achee\n\n979-733-4273\n\nmhachee15@gmail.com\n\nhttps://lampasaseclipse.godaddysites.com/
X-ALT-DESC;FMTTYPE=text/html:Megan Achee<br />\n979-733-4273<br />\nmhachee15@gmail.com<br />\n<a href="https://lampasaseclipse.godaddysites.com/">https://lampasaseclipse.godaddysites.com/</a><br />\n&nbsp\;
LOCATION:Double Horn Ranch 2312 West FM 580 Lampasas\, TX 76550
UID:e.2246.10001
SEQUENCE:3
DTSTAMP:20260419T142021Z
URL:https://business.lampasaschamber.org/events/details/total-solar-eclipse-2024-viewing-sites-available-double-horn-ranch-10001
END:VEVENT

END:VCALENDAR
