BEGIN:VCALENDAR
VERSION:2.0
PRODID:-//ChamberMaster//Event Calendar 2.0//EN
METHOD:PUBLISH
X-PUBLISHED-TTL:P3D
REFRESH-INTERVAL:P3D
CALSCALE:GREGORIAN
BEGIN:VEVENT
DTSTART:20161208T233000Z
DTEND:20161209T013000Z
X-MICROSOFT-CDO-ALLDAYEVENT:FALSE
SUMMARY:"Thrive @ Five" Member Mixer
DESCRIPTION:The "Thrive @ Five" Member Mixers are designed to highlight a member and their respective business while providing a networking opportunity to all Chamber Members.\n\n\n\nThe "Thrive @ Five" Mixers are a fun after hours event where members gather to mix and mingle casually! There is no program\, and the only agenda is for members to connect in an effort to prosper the Lampasas County Business Community.
X-ALT-DESC;FMTTYPE=text/html:The &quot\;Thrive @ Five&quot\; Member Mixers are designed to highlight a member and their respective business while providing a networking opportunity to all Chamber Members.<br />\n<br />\nThe &quot\;Thrive @ Five&quot\; Mixers are a fun after hours event where members gather to mix and mingle casually! There is no program\, and the only agenda is for members to connect in an effort to prosper the Lampasas&nbsp\;County Business Community.&nbsp\; &nbsp\;&nbsp\;
LOCATION:Unwind! 175 West Business 190 Suite #4 Copperas Cove\, Tx 76522
UID:e.2246.742
SEQUENCE:3
DTSTAMP:20260419T191644Z
URL:https://business.lampasaschamber.org/events/details/thrive-five-member-mixer-06-23-2016-742
END:VEVENT

END:VCALENDAR
