BEGIN:VCALENDAR
VERSION:2.0
PRODID:-//ChamberMaster//Event Calendar 2.0//EN
METHOD:PUBLISH
X-PUBLISHED-TTL:P3D
REFRESH-INTERVAL:P3D
CALSCALE:GREGORIAN
BEGIN:VEVENT
DTSTART:20210814T190000Z
DTEND:20210814T230000Z
X-MICROSOFT-CDO-ALLDAYEVENT:FALSE
SUMMARY:The Hill Country Children's Advocacy Center Host-Lampasas Designer Purse Bingo-Cancelled
DESCRIPTION:This event has been cancelled...\n\n\n\nA fun filled afternoon playing Bingo with a chance to win a designer purse.  \n\nFor Sponsorship information\, to purchase tables or tickets contact Lora Cheney at lorac@hccac.org
X-ALT-DESC;FMTTYPE=text/html:<span style="color:#FF0000\;"><strong><span style="font-size:16px\;">This event has been cancelled...</span></strong></span><br />\n<br />\nA fun filled afternoon playing Bingo with a chance to win a designer purse.&nbsp\;&nbsp\;<br />\nFor Sponsorship information\, to purchase tables or tickets contact Lora Cheney at lorac@hccac.org
LOCATION:Lampasas County Livestock Association Show Barn 283 US-183 Lampasas\, Texas 76550
UID:e.2246.8059
SEQUENCE:3
DTSTAMP:20260422T034530Z
URL:https://business.lampasaschamber.org/events/details/the-hill-country-children-s-advocacy-center-host-lampasas-designer-purse-bingo-cancelled-8059
END:VEVENT

END:VCALENDAR
