BEGIN:VCALENDAR
VERSION:2.0
PRODID:-//ChamberMaster//Event Calendar 2.0//EN
METHOD:PUBLISH
X-PUBLISHED-TTL:P3D
REFRESH-INTERVAL:P3D
CALSCALE:GREGORIAN
BEGIN:VEVENT
DTSTART:20211120T190000Z
DTEND:20211120T210000Z
X-MICROSOFT-CDO-ALLDAYEVENT:FALSE
SUMMARY:Thanksgiving Dinner
DESCRIPTION:The Lampasas VFW will be hosting a Thanksgiving Dinner for veterans and their families on Saturday\, November 20 at 1 p.m. at the canteen.
X-ALT-DESC;FMTTYPE=text/html:The Lampasas VFW will be hosting a Thanksgiving Dinner for veterans and their families on Saturday\, November 20 at 1 p.m. at the canteen.&nbsp\;<br />\n&nbsp\;
LOCATION:
UID:e.2246.8624
SEQUENCE:3
DTSTAMP:20260422T013524Z
URL:https://business.lampasaschamber.org/events/details/thanksgiving-dinner-8624
END:VEVENT

END:VCALENDAR
