BEGIN:VCALENDAR
VERSION:2.0
PRODID:-//ChamberMaster//Event Calendar 2.0//EN
METHOD:PUBLISH
X-PUBLISHED-TTL:P3D
REFRESH-INTERVAL:P3D
CALSCALE:GREGORIAN
BEGIN:VEVENT
DTSTART;VALUE=DATE:20210605
DTEND;VALUE=DATE:20210606
TRANSP:TRANSPARENT
X-MICROSOFT-CDO-ALLDAYEVENT:TRUE
SUMMARY:Texas 4000 - June 5\, 2021
DESCRIPTION:Vision Lampasas is proud to support this event.  \n\nTexas 4000's mission is to cultivate student leaders and engage communities in the fight against cancer.\n\nWe share hope\, knowledge and charity through leadership development\, grantmaking\, and our cornerstone event\, a 4\,000+ mile bike ride.\n\nWe share HOPE by letting those touched by cancer know that we are riding for them and fighting for a world without cancer. We share KNOWLEDGE by bringing life-saving information about cancer prevention to communities and providing leadership development training to tomorrow's leaders. We share CHARITY by contributing to cancer research and cancer support services while developing the next generation of volunteers and philanthropists.\n\nTexas 4000 envisions a world where all students can become leaders in creating a cancer-free future.\n\n\n\nDue to Covid 19 restrictions\, this event will be scaled back to limit exposure to or from student athletes.  A kick-off event will be held for friends and family on June 5 at Stoneledge Vineyard in Nix.\n\n\n\nYou can help support this charity ride with a contribution to Texas 400 fight against cancer at their website  Homepage - Texas 4000
X-ALT-DESC;FMTTYPE=text/html:<p><strong>Vision Lampasas is proud to support this event.&nbsp\;&nbsp\;<br />\nTexas 4000&rsquo\;s mission is to cultivate student leaders and engage communities in the fight against cancer.</strong></p>\n\n<p>We share hope\, knowledge and charity through leadership development\, grantmaking\, and our cornerstone event\, a 4\,000+ mile bike ride.</p>\n\n<p>We share&nbsp\;<strong>HOPE</strong>&nbsp\;by letting those touched by cancer know that we are riding for them and fighting for a world without cancer. We share&nbsp\;<strong>KNOWLEDGE</strong>&nbsp\;by bringing life-saving information about cancer prevention to communities and providing leadership development training to tomorrow&rsquo\;s leaders. We share&nbsp\;<strong>CHARITY</strong>&nbsp\;by contributing to cancer research and cancer support services while developing the next generation of volunteers and philanthropists.</p>\n\n<p>Texas 4000 envisions a world where all students can become leaders in creating a cancer-free future.<br />\n<br />\nDue to Covid 19 restrictions\, this event will be scaled back to limit exposure to or from student athletes.&nbsp\; A kick-off event will be held for friends and family on June 5 at Stoneledge Vineyard in Nix.<br />\n<br />\nYou can help support this charity ride with a contribution to Texas 400 fight against cancer at their website&nbsp\;&nbsp\;<a href="https://www.texas4000.org/">Homepage - Texas 4000</a></p>\n
LOCATION:Stoneledge Winery\, 518 County Road 1403\, Lometa\, TX 76853
UID:e.2246.7980
SEQUENCE:3
DTSTAMP:20260422T072133Z
URL:https://business.lampasaschamber.org/events/details/texas-4000-june-5-2021-7980
END:VEVENT

END:VCALENDAR
