BEGIN:VCALENDAR
VERSION:2.0
PRODID:-//ChamberMaster//Event Calendar 2.0//EN
METHOD:PUBLISH
X-PUBLISHED-TTL:P3D
REFRESH-INTERVAL:P3D
CALSCALE:GREGORIAN
BEGIN:VEVENT
DTSTART:20210227T233000Z
DTEND:20210228T013000Z
X-MICROSOFT-CDO-ALLDAYEVENT:FALSE
SUMMARY:Stoneledge Winery & Vineyard - Valentine Chocolate Pairing-February 27\, 2021
DESCRIPTION:Join us for an evening of Fredericksburg chocolates paired with our award winning wine. We will be giving "sneak peeks" to upcoming wine to be released in the future as well. This event will be appropriately social distanced.
X-ALT-DESC;FMTTYPE=text/html:<span style="color:rgb(5\, 5\, 5)\; font-family:segoe ui historic\,segoe ui\,helvetica\,arial\,sans-serif\; font-size:15px">Join us for an evening of Fredericksburg chocolates paired with our award winning wine. We will be giving &quot\;sneak peeks&quot\; to upcoming wine to be released in the future as well. This event will be appropriately social distanced.</span><br />\n<br />\n&nbsp\;
LOCATION:518 County Road 1403 Lometa\, TX 76853
UID:e.2246.7893
SEQUENCE:3
DTSTAMP:20260422T151449Z
URL:https://business.lampasaschamber.org/events/details/stoneledge-winery-vineyard-valentine-chocolate-pairing-february-27-2021-7893
END:VEVENT

END:VCALENDAR
