BEGIN:VCALENDAR
VERSION:2.0
PRODID:-//ChamberMaster//Event Calendar 2.0//EN
METHOD:PUBLISH
X-PUBLISHED-TTL:P3D
REFRESH-INTERVAL:P3D
CALSCALE:GREGORIAN
BEGIN:VEVENT
DTSTART:20191112T184500Z
DTEND:20191112T200000Z
X-MICROSOFT-CDO-ALLDAYEVENT:FALSE
SUMMARY:Specialize Telecommunications Assistance Program 2019 - FREE PHONES
DESCRIPTION:West Oaks Independent Living Community \n\nCome learn about - Specialize Telecommunications Assistance Program\n\n\nRequirements\n\n\n	Applicant MUST live in the state of Texas.\n	Have a condition/disability that limits your ability to use the telephone.  Example: difficulty hearing\, seeing\, speaking\, mobility (moving)\, or remembering.\n\n Please bring 1 (one) form of I.D. (Texas Drivers License or ID\, Utility or phone bill\, or Voter Registration card)\n\n\n\nTROUBLE UNDERSTANDING ON THE TELEPHONE?\n\nWE CAN HELP!
X-ALT-DESC;FMTTYPE=text/html:<div style="text-align: center\;"><span style="color:#000000\;"><span style="font-size:22px\;"><strong>West Oaks Independent Living Community&nbsp\;</strong></span></span></div>\n\n<div style="text-align: center\;"><span style="color:#000000\;"><span style="font-size:16px\;">Come learn about - Specialize Telecommunications Assistance Program</span></span></div>\n<br />\n<span style="color:#000000\;"><span style="font-size:14px\;"><strong>Requirements</strong></span></span>\n\n<ul>\n	<li><span style="color:#000000\;"><span style="font-size:14px\;">Applicant MUST live in the state of Texas.</span></span></li>\n	<li><span style="color:#000000\;"><span style="font-size:14px\;">Have a condition/disability that limits your ability to use the telephone.&nbsp\;&nbsp\;Example: difficulty hearing\, seeing\, speaking\, mobility (moving)\, or remembering.</span></span></li>\n</ul>\n<span style="color:#000000\;"> <span style="font-size:14px\;">Please bring 1 (one) form of I.D. (Texas Drivers License or ID\, Utility or phone bill\, or Voter Registration card)</span><br />\n<br />\n<strong><span style="font-size:16px\;">TROUBLE UNDERSTANDING ON THE TELEPHONE?<br />\nWE CAN HELP!&nbsp\;</span></strong></span><br />\n&nbsp\;
LOCATION:West Oaks INDEPENDENT LIVING COMMUNITY 1212 W. 6th St. Lampasas\, TX 76550
UID:e.2246.7657
SEQUENCE:3
DTSTAMP:20260423T194103Z
URL:https://business.lampasaschamber.org/events/details/specialize-telecommunications-assistance-program-2019-free-phones-7657
END:VEVENT

END:VCALENDAR
