BEGIN:VCALENDAR
VERSION:2.0
PRODID:-//ChamberMaster//Event Calendar 2.0//EN
METHOD:PUBLISH
X-PUBLISHED-TTL:P3D
REFRESH-INTERVAL:P3D
CALSCALE:GREGORIAN
BEGIN:VEVENT
DTSTART:20310416T180000Z
DTEND:20310416T190000Z
X-MICROSOFT-CDO-ALLDAYEVENT:FALSE
SUMMARY:Solaris Meeting
DESCRIPTION:Solaris Bi-Weekly Meeting
X-ALT-DESC;FMTTYPE=text/html:Solaris Bi-Weekly Meeting
LOCATION:Lampasas County Chamber Conference Room
UID:e.2246.12488
SEQUENCE:3
DTSTAMP:20260423T111110Z
URL:https://business.lampasaschamber.org/events/details/solaris-bi-weekly-meeting-04-16-2031-12488
END:VEVENT

END:VCALENDAR
