BEGIN:VCALENDAR
VERSION:2.0
PRODID:-//ChamberMaster//Event Calendar 2.0//EN
METHOD:PUBLISH
X-PUBLISHED-TTL:P3D
REFRESH-INTERVAL:P3D
CALSCALE:GREGORIAN
BEGIN:VEVENT
DTSTART:20240406T130000Z
DTEND:20240408T230000Z
X-MICROSOFT-CDO-ALLDAYEVENT:FALSE
SUMMARY:Solar Eclipse Watch Party @ Oil States
DESCRIPTION:Family friendly environment. We will have yard games\, movies\, music\, food and drinks.
X-ALT-DESC;FMTTYPE=text/html:Family friendly environment. We will have yard games\, movies\, music\, food and drinks.
LOCATION:Oil States Industries 1720 Central Texas Expressway Lampasas\, TX 76550
UID:e.2246.10100
SEQUENCE:3
DTSTAMP:20260419T142545Z
URL:https://business.lampasaschamber.org/events/details/solar-eclipse-watch-party-oil-states-04-06-2024-10100
END:VEVENT

END:VCALENDAR
