BEGIN:VCALENDAR
VERSION:2.0
PRODID:-//ChamberMaster//Event Calendar 2.0//EN
METHOD:PUBLISH
X-PUBLISHED-TTL:P3D
REFRESH-INTERVAL:P3D
CALSCALE:GREGORIAN
BEGIN:VEVENT
DTSTART:20240402T030000Z
DTEND:20240409T220000Z
X-MICROSOFT-CDO-ALLDAYEVENT:FALSE
SUMMARY:Solar Eclipse Viewing at Out Land
DESCRIPTION:Join us to view the solar eclipse on our land\n\n			Dry RV Parking - No Hook-ups: 2-day minimum stay\n\n			April 1 - 4 $100 a day\n\n			April 5 - 9 $200 a day\n\n			Tent camping areas with one parking spot: 2-day minimum stay\n\n			April 1 - 4 $50 a day\n\n			April 5 - 9 $100 a day\n\n			We are conveniently located 10 miles East of Lampasas\, Texas right off Highway 190\n\n			We will sell Tamales meals to the public from April 4 - 8th.
X-ALT-DESC;FMTTYPE=text/html:<table border="0" cellpadding="0" cellspacing="0" style="width:100.0%\;border-collapse:collapse\;" width="100%">\n	<tbody>\n		<tr>\n			<td style="border:none\;border-bottom:solid #CCCCCC 1.0pt\;padding:6.0pt 0in 6.0pt 0in\;vertical-align:top\;"><span style="color:#222222\;"><span style="font-family:helvetica\,sans-serif\;"><span style="font-size:10.0pt\;">Join us to view the solar eclipse on our land<br />\n			Dry RV Parking - No Hook-ups: 2-day minimum stay<br />\n			April 1 - 4 $100 a day<br />\n			April 5 - 9 $200 a day<br />\n			Tent camping areas with one parking spot: 2-day minimum stay<br />\n			April 1 - 4 $50 a day<br />\n			April 5 - 9 $100 a day<br />\n			We are conveniently located 10 miles East of Lampasas\, Texas right off Highway 190<br />\n			We will sell Tamales meals to the public from April 4 - 8th. </span></span></span></td>\n		</tr>\n	</tbody>\n</table>\n
LOCATION:Spring Creek 13600 Col Walter L Prugh Expwy (Hwy 190) Copperas Cove\, TX 76522
UID:e.2246.10273
SEQUENCE:3
DTSTAMP:20260419T141943Z
URL:https://business.lampasaschamber.org/events/details/solar-eclipse-viewing-at-out-land-10273
END:VEVENT

END:VCALENDAR
