BEGIN:VCALENDAR
VERSION:2.0
PRODID:-//ChamberMaster//Event Calendar 2.0//EN
METHOD:PUBLISH
X-PUBLISHED-TTL:P3D
REFRESH-INTERVAL:P3D
CALSCALE:GREGORIAN
BEGIN:VEVENT
DTSTART:20251213T160000Z
DTEND:20251213T200000Z
X-MICROSOFT-CDO-ALLDAYEVENT:FALSE
SUMMARY:Second Saturday Sale - Flea Market Style 12/13/2025
DESCRIPTION:Second Saturday Sale monthly at 1010 E. 4th Street\, cross street is Briggs.  This is a really fun community event.  Our customers open their storage units and sell various items.  Outside vendors are welcome to set up\, please call 512-592-1090 to reserve your spot. Vendors - first set up is free\, following month's fee is $25. Light restrictions on sale items.  No condiments (jams\, jellies\, butter\, peanut butter\, etc).  No illegal items.  \n\nWe usually have a food truck out front\, and the sales are in the back.
X-ALT-DESC;FMTTYPE=text/html:Second Saturday Sale monthly at 1010 E. 4th Street\, cross street is Briggs.&nbsp\; This is a really fun community event.&nbsp\; Our customers open their storage units and sell various items.&nbsp\; Outside vendors are welcome to set up\, please call 512-592-1090 to reserve your spot. Vendors - first set up is free\, following month&#39\;s fee is $25. Light restrictions on sale items.&nbsp\; No condiments (jams\, jellies\, butter\, peanut butter\, etc).&nbsp\; No illegal items.&nbsp\;&nbsp\;<br />\nWe usually have a food truck out front\, and the sales are in the back.&nbsp\;&nbsp\;
LOCATION:1010 E. 4th Street\, Lampasas\, TX at Storage Near Me Texas
UID:e.2246.10955
SEQUENCE:3
DTSTAMP:20260419T132031Z
URL:https://business.lampasaschamber.org/events/details/second-saturday-sale-flea-market-style-12-13-2025-10955
END:VEVENT

END:VCALENDAR
