BEGIN:VCALENDAR
VERSION:2.0
PRODID:-//ChamberMaster//Event Calendar 2.0//EN
METHOD:PUBLISH
X-PUBLISHED-TTL:P3D
REFRESH-INTERVAL:P3D
CALSCALE:GREGORIAN
BEGIN:VEVENT
DTSTART:20260712T160000Z
DTEND:20260712T200000Z
X-MICROSOFT-CDO-ALLDAYEVENT:FALSE
SUMMARY:Santa Fe Depot- More Details to come...
DESCRIPTION:SANTA FE DEPOT -More Details to come...
X-ALT-DESC;FMTTYPE=text/html:SANTA FE DEPOT -More Details to come...
LOCATION:Santa Fe Depot
UID:e.2246.12929
SEQUENCE:3
DTSTAMP:20260421T134851Z
URL:https://business.lampasaschamber.org/events/details/santa-fe-depot-more-details-to-come-12929
END:VEVENT

END:VCALENDAR
