BEGIN:VCALENDAR
VERSION:2.0
PRODID:-//ChamberMaster//Event Calendar 2.0//EN
METHOD:PUBLISH
X-PUBLISHED-TTL:P3D
REFRESH-INTERVAL:P3D
CALSCALE:GREGORIAN
BEGIN:VEVENT
DTSTART:20190925T223000Z
DTEND:20190926T000000Z
X-MICROSOFT-CDO-ALLDAYEVENT:FALSE
SUMMARY:Ronda's Travel & Tours Presents - an Evening with CIE Tours International - 2019
DESCRIPTION:Ronda's Travel & Tours Presents\n\nan Evening with CIE Tours International\n\n\n\nIncluding Upcoming Group Trip Irish Adventure\n\nJune 10\, 2020\n\n8 days - 7 nights 14 meals
X-ALT-DESC;FMTTYPE=text/html:Ronda&#39\;s Travel &amp\; Tours Presents<br />\nan Evening with CIE Tours International<br />\n<br />\nIncluding Upcoming Group Trip Irish Adventure<br />\nJune 10\, 2020<br />\n8 days - 7 nights 14 meals
LOCATION:Bar 17 on the Lampasas Square 402 Live Oak St. Lampasas\, TX 76550
UID:e.2246.7622
SEQUENCE:3
DTSTAMP:20260423T232613Z
URL:https://business.lampasaschamber.org/events/details/ronda-s-travel-tours-presents-an-evening-with-cie-tours-international-2019-7622
END:VEVENT

END:VCALENDAR
