BEGIN:VCALENDAR
VERSION:2.0
PRODID:-//ChamberMaster//Event Calendar 2.0//EN
METHOD:PUBLISH
X-PUBLISHED-TTL:P3D
REFRESH-INTERVAL:P3D
CALSCALE:GREGORIAN
BEGIN:VEVENT
DTSTART:20191026T160000Z
DTEND:20191026T210000Z
X-MICROSOFT-CDO-ALLDAYEVENT:FALSE
SUMMARY:QUESO FEST - Lampasas County 4H
DESCRIPTION:Come Join The Fun! QUESO FEST \n\n100% of proceeds to to the youth of\n\nLampasas County 4H programs of 2019\n\n\n\nPETTING ZOO - VENDORS - FOOD TRUCKS - BOOTHS\n\n\nChips $5/bag - FREE QUESO!\n\n\n\nPEOPLE'S CHOICE WINNER
X-ALT-DESC;FMTTYPE=text/html:<div style="text-align: center\;"><strong><span style="color:#008000\;"><span style="font-size:20px\;">Come Join The Fun! QUESO FEST </span></span></strong></div>\n\n<div style="text-align: center\;"><strong><span style="color:#008000\;"><span style="font-size:16px\;">100% of proceeds to to the youth of<br />\nLampasas County 4H programs of 2019</span></span></strong></div>\n\n<div style="text-align: center\;"><br />\n<strong><span style="color:#B22222\;"><span style="font-size:16px\;">PETTING ZOO - VENDORS - FOOD TRUCKS - BOOTHS</span></span></strong></div>\n<br />\n<strong><span style="font-size:16px\;"><span style="color:#008000\;">Chips $5/bag - FREE QUESO!</span><br />\n<br />\n<span style="color:#B22222\;">PEOPLE&#39\;S CHOICE WINNER</span></span></strong><br />\n&nbsp\;
LOCATION:LAMPASAS SHOW BARN 283 N Hwy. 183 EXT 140 512-556-8271
UID:e.2246.7648
SEQUENCE:3
DTSTAMP:20260423T212138Z
URL:https://business.lampasaschamber.org/events/details/queso-fest-lampasas-county-4h-7648
END:VEVENT

END:VCALENDAR
