BEGIN:VCALENDAR
VERSION:2.0
PRODID:-//ChamberMaster//Event Calendar 2.0//EN
METHOD:PUBLISH
X-PUBLISHED-TTL:P3D
REFRESH-INTERVAL:P3D
CALSCALE:GREGORIAN
BEGIN:VEVENT
DTSTART:20160211T220000Z
DTEND:20160212T000000Z
X-MICROSOFT-CDO-ALLDAYEVENT:FALSE
SUMMARY:Palapa Pool Services Grand Opening & Ribbon Cutting
DESCRIPTION:All Chamber Members are cordially invited to help us celebrate the opening of our new business in Lampasas! Come enjoy Wings & Beer and cut the ribbon to officially welcome Palapa Pool Services\n\nto the Lampasas County Business Community!\n\n\n\nWe are offering one month of FREE Pool Maintenance to anyone who signs up for one year of pool servicing during the Ribbon Cutting and Grand Opening Celebration!\n\n\n\n\n\n\n\n* Locally Owned\n\n* Reliable\n\n*Family Values\n\n* Certified Technicians\n\n* Professional Service\n\nSAM & JAMIE PARKER PRINICPLES!
X-ALT-DESC;FMTTYPE=text/html:<div style="text-align: center\;"><span style="font-family:comic sans ms\;"><strong>All Chamber Members are cordially invited to help us celebrate the opening of our new business in Lampasas! Come enjoy Wings &amp\; Beer and cut the ribbon to officially welcome Palapa&nbsp\;Pool Services<br />\nto the Lampasas County Business Community!<br />\n<br />\nWe are offering one month of FREE Pool Maintenance to anyone who signs up for one year of pool servicing during the Ribbon Cutting and Grand Opening Celebration!<br />\n<br />\n<br />\n<br />\n* Locally Owned<br />\n* Reliable<br />\n*Family Values<br />\n* Certified Technicians<br />\n* Professional Service<br />\nSAM &amp\; JAMIE PARKER PRINICPLES!</strong></span></div>\n
LOCATION:Lampasas County Chamber of Commerce Conference Room 205 South Hwy 281 Lampasas\, Tx 76550
UID:e.2246.743
SEQUENCE:3
DTSTAMP:20260420T011448Z
URL:https://business.lampasaschamber.org/events/details/palapa-pool-services-grand-opening-ribbon-cutting-02-11-2016-743
END:VEVENT

END:VCALENDAR
