BEGIN:VCALENDAR
VERSION:2.0
PRODID:-//ChamberMaster//Event Calendar 2.0//EN
METHOD:PUBLISH
X-PUBLISHED-TTL:P3D
REFRESH-INTERVAL:P3D
CALSCALE:GREGORIAN
BEGIN:VEVENT
DTSTART;VALUE=DATE:20240319
DTEND;VALUE=DATE:20240401
TRANSP:TRANSPARENT
X-MICROSOFT-CDO-ALLDAYEVENT:TRUE
SUMMARY:Open Enrollment 2024-25 School Year
DESCRIPTION:Providence Christian Academy of Lampasas\n\nREGISTRATION NOW OPEN!\n\n \n\nENROLLING STUDENTS FOR THE 2024-25 SCHOOL YEAR.\n\nAGES 3 years old -- 8th GRADE\npcalampasas.com  512-400-4001
X-ALT-DESC;FMTTYPE=text/html:<h1><span style="font-family:times new roman">Providence Christian Academy of Lampasas<br />\nREGISTRATION NOW OPEN!</span></h1>\n\n<h2>&nbsp\;</h2>\n\n<h2>ENROLLING STUDENTS FOR THE 2024-25 SCHOOL YEAR.</h2>\n\n<h3><span style="font-family:times new roman">AGES 3 years old -- 8th GRADE</span></h3>\n<span style="font-family:times new roman">pcalampasas.com&nbsp\; 512-400-4001</span>
LOCATION:2 Alexander Lane\, Lampasas\, TX 76550
UID:e.2246.10258
SEQUENCE:3
DTSTAMP:20260419T192618Z
URL:https://business.lampasaschamber.org/events/details/opwn-enrollment-2024-25-school-year-10258
END:VEVENT

END:VCALENDAR
