BEGIN:VCALENDAR
VERSION:2.0
PRODID:-//ChamberMaster//Event Calendar 2.0//EN
METHOD:PUBLISH
X-PUBLISHED-TTL:P3D
REFRESH-INTERVAL:P3D
CALSCALE:GREGORIAN
BEGIN:VEVENT
DTSTART:20191027T190000Z
DTEND:20191027T220000Z
X-MICROSOFT-CDO-ALLDAYEVENT:FALSE
SUMMARY:OPEN GATE COWBOY CHURCH FALL FESTIVAL 2019
DESCRIPTION:OPEN GATE COWBOY CHURCH\n\nFALL FESTIVAL\n\n\nFREE!\n\nCake Walk - Petting Zoo - Games - Candy\n\n\n\nFree raffle ticket to each adult!\n\nPrizes include a cooler\, gift certificates to Alfredos and Spring Cleaners\n\nLeather sheath and knife\, and more!!\n\n*additional raffle tickets can be purchased for $5 each
X-ALT-DESC;FMTTYPE=text/html:<div style="text-align: center\;"><span style="color:#FF8C00\;"><strong><span style="font-size:18px\;">OPEN GATE COWBOY CHURCH<br />\nFALL FESTIVAL</span></strong></span></div>\n<br />\n<span style="color:#006400\;"><strong><span style="font-size:14px\;">FREE!<br />\nCake Walk - Petting Zoo - Games - Candy<br />\n<br />\nFree raffle ticket to each adult!<br />\nPrizes include a cooler\, gift certificates to Alfredos and Spring Cleaners<br />\nLeather sheath and knife\, and more!!<br />\n*additional raffle tickets can be purchased for $5 each</span></strong></span>
LOCATION:1602 E. Avenue J Lampasas\, TX 76550
UID:e.2246.7650
SEQUENCE:3
DTSTAMP:20260423T212447Z
URL:https://business.lampasaschamber.org/events/details/open-gate-cowboy-church-fall-festival-2019-7650
END:VEVENT

END:VCALENDAR
