BEGIN:VCALENDAR
VERSION:2.0
PRODID:-//ChamberMaster//Event Calendar 2.0//EN
METHOD:PUBLISH
X-PUBLISHED-TTL:P3D
REFRESH-INTERVAL:P3D
CALSCALE:GREGORIAN
BEGIN:VEVENT
DTSTART:20191109T150000Z
DTEND:20191109T200000Z
X-MICROSOFT-CDO-ALLDAYEVENT:FALSE
SUMMARY:No One Left Behind! Mothers Outreach - New Beginning of Restoration & Hope 2019
DESCRIPTION:NO ONE LEFT BEHIND!\n\n\nMothers Outreach\n\nItems for ALL mothers & mothers to be!
X-ALT-DESC;FMTTYPE=text/html:<div style="text-align: center\;"><span style="color:#000080\;"><strong><span style="font-size:22px\;">NO ONE LEFT BEHIND!</span></strong></span></div>\n<br />\n<span style="color:#000080\;"><strong><span style="font-size:18px\;">Mothers Outreach<br />\nItems for ALL mothers &amp\; mothers to be!</span></strong></span>
LOCATION:1920 S. Hwy 183 Lampasas\, TX 76550
UID:e.2246.7656
SEQUENCE:3
DTSTAMP:20260423T194746Z
URL:https://business.lampasaschamber.org/events/details/no-one-left-behind-mothers-outreach-new-beginning-of-restoration-hope-2019-7656
END:VEVENT

END:VCALENDAR
