BEGIN:VCALENDAR
VERSION:2.0
PRODID:-//ChamberMaster//Event Calendar 2.0//EN
METHOD:PUBLISH
X-PUBLISHED-TTL:P3D
REFRESH-INTERVAL:P3D
CALSCALE:GREGORIAN
BEGIN:VEVENT
DTSTART:20191004T230000Z
DTEND:20191005T010000Z
X-MICROSOFT-CDO-ALLDAYEVENT:FALSE
SUMMARY:New Beginning of Restoration & Hope Pregnancy Resource Center "Blessed & Restored" Benefit 2019
DESCRIPTION:New Beginning of Restoration and Hope Pregnancy Resource Center\n\nFirst 2019 Fall "Blessed & Restored" Benefit
X-ALT-DESC;FMTTYPE=text/html:New Beginning of Restoration and Hope Pregnancy Resource Center<br />\nFirst 2019 Fall &quot\;Blessed &amp\; Restored&quot\; Benefit
LOCATION:Grace Fellowship 2974 US 281 Lampasas\, TX 76550
UID:e.2246.7617
SEQUENCE:3
DTSTAMP:20260423T214127Z
URL:https://business.lampasaschamber.org/events/details/new-beginning-of-restoration-hope-pregnancy-resource-center-blessed-restored-benefit-2019-7617
END:VEVENT

END:VCALENDAR
