BEGIN:VCALENDAR
VERSION:2.0
PRODID:-//ChamberMaster//Event Calendar 2.0//EN
METHOD:PUBLISH
X-PUBLISHED-TTL:P3D
REFRESH-INTERVAL:P3D
CALSCALE:GREGORIAN
BEGIN:VEVENT
DTSTART:20191001T230000Z
DTEND:20191002T010000Z
X-MICROSOFT-CDO-ALLDAYEVENT:FALSE
SUMMARY:National Night Out - 2019
DESCRIPTION:36th Annual National Night Out\n\n\n\nThe Lampasas Police Department invites you to join them in participating in the 36th Annual National Night Out hosted in conjunction with Lampasas HEB.  HEB will once again be providing music\, hotdogs\, chips\, water and a bounce house. National Night Out is a great opportunity for us to join forces to promote crime prevention awareness and send the message that we are all working together to prevent crime in our community.
X-ALT-DESC;FMTTYPE=text/html:<span style="color:#000080\;"><span style="font-size:28px\;"><strong>36th Annual National Night Out</strong></span><br />\n<br />\n<span style="font-size:18px\;">The Lampasas Police Department invites you to join them in participating in the 36th Annual National Night Out hosted in conjunction with Lampasas HEB.&nbsp\; HEB will once again be providing music\, hotdogs\, chips\, water and a bounce house. National Night Out is a great opportunity for us to join forces to promote crime prevention awareness and send the message that we are all working together to prevent crime in our community.</span></span>
LOCATION:HEB 705 S. Key Lampasas\, TX 76550
UID:e.2246.7625
SEQUENCE:3
DTSTAMP:20260423T212008Z
URL:https://business.lampasaschamber.org/events/details/national-night-out-2019-7625
END:VEVENT

END:VCALENDAR
