BEGIN:VCALENDAR
VERSION:2.0
PRODID:-//ChamberMaster//Event Calendar 2.0//EN
METHOD:PUBLISH
X-PUBLISHED-TTL:P3D
REFRESH-INTERVAL:P3D
CALSCALE:GREGORIAN
BEGIN:VEVENT
DTSTART:20240405T170000Z
DTEND:20240409T200000Z
X-MICROSOFT-CDO-ALLDAYEVENT:FALSE
SUMMARY:Naruna General Store RV and Camping Eclipse Viewing
DESCRIPTION:Come for the eclipse\, stay for the milky way!\n\n			Join us in the country at the Naruna General Store.\n\n			Dry Camping Only - $150 USD per night (minimum of 2 nights)\n\n			Camping opens Friday and check-out is on Tuesday.\n\n			Port-a-potties and trash cans available\n\n			Texas BBQ & snacks available for purchase.\n\n			Enclosed Dog Park\, dogs must remain on leash elsewhere.\n\n			**Day Parking Available $50 USD per car**\n\n			(Camping for Adults only\, Ages 30+\, Store and day parking for all ages)
X-ALT-DESC;FMTTYPE=text/html:<table border="0" cellpadding="0" cellspacing="0" style="width:100.0%\;border-collapse:collapse\;" width="100%">\n	<tbody>\n		<tr>\n			<td style="border:none\;border-bottom:solid #CCCCCC 1.0pt\;padding:6.0pt 0in 6.0pt 0in\;vertical-align:top\;"><span style="color:#222222\;"><span style="font-family:helvetica\,sans-serif\;"><span style="font-size:10.0pt\;">Come for the eclipse\, stay for the milky way!<br />\n			Join us in the country at the Naruna General Store.<br />\n			Dry Camping Only - $150 USD per night (minimum of 2 nights)<br />\n			Camping opens Friday and check-out is on Tuesday.<br />\n			Port-a-potties and trash cans available<br />\n			Texas BBQ &amp\; snacks available for purchase.<br />\n			Enclosed Dog Park\, dogs must remain on leash elsewhere.<br />\n			**Day Parking Available $50 USD per car**<br />\n			(Camping for Adults only\, Ages 30+\, Store and day parking for all ages)</span></span></span></td>\n		</tr>\n	</tbody>\n</table>\n
LOCATION:Naruna General Store 8652 FM 1478 Lampasas\, TX 76550
UID:e.2246.10242
SEQUENCE:3
DTSTAMP:20260419T142028Z
URL:https://business.lampasaschamber.org/events/details/naruna-general-store-rv-and-camping-eclipse-viewing-10242
END:VEVENT

END:VCALENDAR
