BEGIN:VCALENDAR
VERSION:2.0
PRODID:-//ChamberMaster//Event Calendar 2.0//EN
METHOD:PUBLISH
X-PUBLISHED-TTL:P3D
REFRESH-INTERVAL:P3D
CALSCALE:GREGORIAN
BEGIN:VEVENT
DTSTART;VALUE=DATE:20240420
DTEND;VALUE=DATE:20240421
TRANSP:TRANSPARENT
X-MICROSOFT-CDO-ALLDAYEVENT:TRUE
SUMMARY:Museum Tea Party 4/20/2024
DESCRIPTION:SAVE THE DATE ADDITIONAL INFORMATION COMING SOON
X-ALT-DESC;FMTTYPE=text/html:<span style="color:#0000CD\;"><span style="font-size:18px\;"><strong>SAVE THE DATE ADDITIONAL INFORMATION COMING SOON</strong></span></span>
LOCATION:
UID:e.2246.10281
SEQUENCE:3
DTSTAMP:20260419T142432Z
URL:https://business.lampasaschamber.org/events/details/museum-tea-party-4-20-2024-10281
END:VEVENT

END:VCALENDAR
