BEGIN:VCALENDAR
VERSION:2.0
PRODID:-//ChamberMaster//Event Calendar 2.0//EN
METHOD:PUBLISH
X-PUBLISHED-TTL:P3D
REFRESH-INTERVAL:P3D
CALSCALE:GREGORIAN
BEGIN:VEVENT
DTSTART:20260424T230000Z
DTEND:20260425T040000Z
X-MICROSOFT-CDO-ALLDAYEVENT:FALSE
SUMMARY:Line Dancing @ Stoneledge Winery & Vineyard
DESCRIPTION:Line Dancing\n\nEvent by: Stoneledge Winery & Vineyard\n\n518 County Road 1403\, Lometa\, TX\, United States\, Texas 76853\n\nPublic    Anyone on or off Facebook\n\nGet ready Lampasas! Line Dancing at Stoneledge next weekend Saturday 25 April. Enjoy Wine and Line in the pavilion starting at 8 PM! Kelli Beth Grant from Boerne will be instructing .pros and newcomers welcome! Tickets at https://stoneledge.wine/product/linedancing
X-ALT-DESC;FMTTYPE=text/html:<span style="font-family:aptos display\,sans-serif\;">Line Dancing</span><br />\n<span style="font-family:aptos display\,sans-serif\;">Event by: Stoneledge Winery &amp\; Vineyard</span><br />\n<span style="font-family:aptos display\,sans-serif\;">518 County Road 1403\, Lometa\, TX\, United States\, Texas 76853</span><br />\n<span style="font-family:aptos display\,sans-serif\;">Public&nbsp\; &middot\; Anyone on or off Facebook</span><br />\n<span style="font-family:aptos display\,sans-serif\;">Get ready Lampasas! Line Dancing at Stoneledge next weekend Saturday 25 April. Enjoy Wine and Line in the pavilion starting at 8 PM! Kelli Beth Grant from Boerne will be instructing&hellip\;.pros and newcomers welcome! Tickets at <a href="https://stoneledge.wine/product/linedancing">https://stoneledge.wine/product/linedancing</a></span>
LOCATION:Stoneledge Winery & Vineyard 518 County Road 1403\, Lometa\, TX 76853
UID:e.2246.12961
SEQUENCE:3
DTSTAMP:20260421T084811Z
URL:https://business.lampasaschamber.org/events/details/line-dancing-stoneledge-winery-vineyard-12961
END:VEVENT

END:VCALENDAR
