BEGIN:VCALENDAR
VERSION:2.0
PRODID:-//ChamberMaster//Event Calendar 2.0//EN
METHOD:PUBLISH
X-PUBLISHED-TTL:P3D
REFRESH-INTERVAL:P3D
CALSCALE:GREGORIAN
BEGIN:VEVENT
DTSTART:20191109T230000Z
DTEND:20191110T020000Z
X-MICROSOFT-CDO-ALLDAYEVENT:FALSE
SUMMARY:Lampasas Texas - LANTERN LIGHTING - 2019
DESCRIPTION:Come Light the Water! We invite family\, friends\, and individuals to experience a magical night as we light the water with floating water lanterns. Lantern Lighting is an incredible experience where you\, your friends\, and family can create a magical memory of life by writing down some of your hopes and dreams\, or a letter to a loved one\, and then sending it out into the water. The night will be filled with fun\, happiness\, hope and great memories that you'll cherish for a lifetime. Witness the beautiful sight and enjoy the warm glow of lanterns as you relax and connect with those around you.\n\nAll lanterns are 100 % biodegradable\, Eco-friendly\, and cost $5 each. Lanterns will be sold from 5pm-7pm at the park. Lantern launch will take place at 7:30pm. You may bring your own lighter and sharpie. Blankets and chairs are welcome. Live entertainment will be provided. When you purchase a lantern\, you will be entered into a drawing to win a free Steve Wariner concert ticket at Putters & Gutters or a $25 Toupsies' gift card. (There will be a total of 2 concert tickets and 2 gift cards given away) All proceeds benefit Christmas on the Creek.
X-ALT-DESC;FMTTYPE=text/html:Come Light the Water! We invite family\, friends\, and individuals to experience a magical night as we light the water with floating water lanterns. Lantern Lighting is an incredible experience where you\, your friends\, and family can create a magical memory of life by writing down some of your hopes and dreams\, or a letter to a loved one\, and then sending it out into the water. The night will be filled with fun\, happiness\, hope and great memories that you&rsquo\;ll cherish for a lifetime. Witness the beautiful sight and enjoy the warm glow of lanterns as you relax and connect with those around you.<br />\n<span style="color: rgb(51\, 51\, 51)\; font-size: 13px\; font-family: calibri\, sans-serif\;"><span style="font-size: 11pt\;">All lanterns are 100 % biodegradable\, Eco-friendly\, and cost $5 each. Lanterns will be sold from 5pm-7pm at the park. Lantern launch will take place at 7:30pm. You may bring your own lighter and sharpie. Blankets and chairs are welcome. Live entertainment will be provided. When you purchase a lantern\, you will be entered into a drawing to win a free Steve Wariner concert ticket at Putters &amp\; Gutters or a $25 Toupsies&rsquo\; gift card. (There will be a total of 2 concert tickets and 2 gift cards given away) All proceeds benefit Christmas on the Creek.</span></span>
LOCATION:This event will take place at W.M. Brook Park\, Lampasas\, Texas
UID:e.2246.7646
SEQUENCE:3
DTSTAMP:20260423T192458Z
URL:https://business.lampasaschamber.org/events/details/lampasas-texas-lantern-lighting-2019-7646
END:VEVENT

END:VCALENDAR
