BEGIN:VCALENDAR
VERSION:2.0
PRODID:-//ChamberMaster//Event Calendar 2.0//EN
METHOD:PUBLISH
X-PUBLISHED-TTL:P3D
REFRESH-INTERVAL:P3D
CALSCALE:GREGORIAN
BEGIN:VEVENT
DTSTART:20190907T150000Z
DTEND:20190907T170000Z
X-MICROSOFT-CDO-ALLDAYEVENT:FALSE
SUMMARY:Lampasas Public Library Presents Cards & Cones 2019
DESCRIPTION:Cards & Cones\n\nIn honor of Library Card Sign-Up Month\n\n\n\nFeaturing Buzz Lightyear!\n\nBounce House\n\nFace Painting\n\nGames\n\nKiddo Cards\n\n Sno Cones (from Shave & Flave)
X-ALT-DESC;FMTTYPE=text/html:<div style="font-size: 18px\;"><span style="font-size:20px\;">Cards &amp\; Cones</span></div>\n\n<div style="font-size: 18px\;font-size: 14px\;"><strong>In honor of Library Card Sign-Up Month</strong><br />\n<br />\nFeaturing Buzz Lightyear!</div>\n\n<p style="font-size: 18px\;font-size: 14px\;">Bounce House<br />\nFace Painting<br />\nGames<br />\nKiddo Cards<br />\n<span style="font-size:18px\;"><span style="font-size:14px\;">&#8203\;Sno Cones (from Shave &amp\; Flave)</span></span></p>\n\n<p style="font-size: 18px\;">&nbsp\;</p>\n\n<p style="font-size: 18px\;">&nbsp\;</p>\n\n<p>&nbsp\;</p>\n
LOCATION:Lampasas Public Library 201 S. Main St. Lampasas\, TX 76550 512-556-3251
UID:e.2246.7619
SEQUENCE:3
DTSTAMP:20260423T232434Z
URL:https://business.lampasaschamber.org/events/details/lampasas-public-library-presents-cards-cones-2019-7619
END:VEVENT

END:VCALENDAR
