BEGIN:VCALENDAR
VERSION:2.0
PRODID:-//ChamberMaster//Event Calendar 2.0//EN
METHOD:PUBLISH
X-PUBLISHED-TTL:P3D
REFRESH-INTERVAL:P3D
CALSCALE:GREGORIAN
BEGIN:VEVENT
DTSTART:20191024T223000Z
DTEND:20191025T003000Z
X-MICROSOFT-CDO-ALLDAYEVENT:FALSE
SUMMARY:Lampasas Missions' Annual Bean & Cornbread Supper 2019
DESCRIPTION:LAMPASAS MISSIONS'\n\nANNUAL BEANS & CORNBREAD SUPPER\n\n\nCome for a simple supper of Beans & Cornbread\,\n\nand help a GREAT LAMPASAS NON-PROFIT!\n\n\n\n$$$ Donations Only $$$ \n\nSilent Cake Auction\n\nAccepting Non-Perishable Food Donations At The Door
X-ALT-DESC;FMTTYPE=text/html:<div style="text-align: center\;"><span style="color:#FF8C00\;"><span style="font-size:18px\;">LAMPASAS MISSIONS&#39\;<br />\nANNUAL BEANS &amp\; CORNBREAD SUPPER</span></span></div>\n<br />\n<span style="color:#006400\;"><span style="font-size:14px\;">Come for a simple supper of Beans &amp\; Cornbread\,<br />\nand help a GREAT LAMPASAS NON-PROFIT!<br />\n<br />\n$$$ Donations Only $$$&nbsp\;<br />\nSilent Cake Auction<br />\nAccepting Non-Perishable Food Donations At The Door</span></span><br />\n&nbsp\;
LOCATION:New Covenant Church 1604 Plum St. Lampasas\, TX 76550
UID:e.2246.7649
SEQUENCE:3
DTSTAMP:20260423T212015Z
URL:https://business.lampasaschamber.org/events/details/lampasas-missions-annual-bean-cornbread-supper-2019-7649
END:VEVENT

END:VCALENDAR
