BEGIN:VCALENDAR
VERSION:2.0
PRODID:-//ChamberMaster//Event Calendar 2.0//EN
METHOD:PUBLISH
X-PUBLISHED-TTL:P3D
REFRESH-INTERVAL:P3D
CALSCALE:GREGORIAN
BEGIN:VEVENT
DTSTART:20191012T140000Z
DTEND:20191012T200000Z
X-MICROSOFT-CDO-ALLDAYEVENT:FALSE
SUMMARY:Lampasas Fall Fest 2019
DESCRIPTION:Lampasas Fall Fest Sponsored by Lampasas Courtyard Square Association.\n\nFor vendor info. call 512-556-8030
X-ALT-DESC;FMTTYPE=text/html:Lampasas Fall Fest Sponsored by Lampasas Courtyard Square Association.<br />\nFor vendor info. call 512-556-8030
LOCATION:Historic Courtyard Square\, Lampasas Texas
UID:e.2246.7618
SEQUENCE:3
DTSTAMP:20260423T212040Z
URL:https://business.lampasaschamber.org/events/details/lampasas-fall-fest-2019-7618
END:VEVENT

END:VCALENDAR
