BEGIN:VCALENDAR
VERSION:2.0
PRODID:-//ChamberMaster//Event Calendar 2.0//EN
METHOD:PUBLISH
X-PUBLISHED-TTL:P3D
REFRESH-INTERVAL:P3D
CALSCALE:GREGORIAN
BEGIN:VEVENT
DTSTART:20260912T230000Z
DTEND:20260913T020000Z
X-MICROSOFT-CDO-ALLDAYEVENT:FALSE
SUMMARY:Lampasas County Young Life Banquet 9/12/2026
DESCRIPTION:SAVE THE DATE...
X-ALT-DESC;FMTTYPE=text/html:<span style="color:#000080\;"><strong><span style="font-size:24px\;">SAVE THE DATE...</span></strong></span>
LOCATION:Fiesta Winery
UID:e.2246.11328
SEQUENCE:3
DTSTAMP:20260421T173750Z
URL:https://business.lampasaschamber.org/events/details/lampasas-county-young-life-banquet-9-12-2026-11328
END:VEVENT

END:VCALENDAR
