BEGIN:VCALENDAR
VERSION:2.0
PRODID:-//ChamberMaster//Event Calendar 2.0//EN
METHOD:PUBLISH
X-PUBLISHED-TTL:P3D
REFRESH-INTERVAL:P3D
CALSCALE:GREGORIAN
BEGIN:VEVENT
DTSTART;VALUE=DATE:20240405
DTEND;VALUE=DATE:20240412
TRANSP:TRANSPARENT
X-MICROSOFT-CDO-ALLDAYEVENT:TRUE
SUMMARY:Lampasas County Solar Eclipse Campsites @ Goat Pen RV Community
DESCRIPTION:John McBryde\n\n512-734-3000\n\ntwmtwm7@gmail.com
X-ALT-DESC;FMTTYPE=text/html:John McBryde<br />\n512-734-3000<br />\ntwmtwm7@gmail.com
LOCATION:Goat Pen RV Community 370 CR 3073 Lampasas\, TX 76550
UID:e.2246.10010
SEQUENCE:3
DTSTAMP:20260419T141020Z
URL:https://business.lampasaschamber.org/events/details/lampasas-county-solar-eclipse-campsites-goat-pen-rv-community-10010
END:VEVENT

END:VCALENDAR
