BEGIN:VCALENDAR
VERSION:2.0
PRODID:-//ChamberMaster//Event Calendar 2.0//EN
METHOD:PUBLISH
X-PUBLISHED-TTL:P3D
REFRESH-INTERVAL:P3D
CALSCALE:GREGORIAN
BEGIN:VEVENT
DTSTART:20191023T000000Z
DTEND:20191023T013000Z
X-MICROSOFT-CDO-ALLDAYEVENT:FALSE
SUMMARY:Lampasas County Historical Commission/Archaeology Month in Texas 2019
DESCRIPTION:The Lampasas County Historical Commission will sponsor a program in recognition of Archaeology Month in Texas. The public is invited to hear Del Barnett\, who holds a masters degree in social work\, speak about man's migration into Central Texas.
X-ALT-DESC;FMTTYPE=text/html:<span style="color:#000080\;"><span style="font-size:18px\;">The Lampasas County Historical Commission will sponsor a program in recognition of Archaeology Month in Texas. The public is invited to hear Del Barnett\, who holds a masters degree in social work\, speak about man&#39\;s migration into Central Texas.</span></span>
LOCATION:Lampasas Public Library 201 S. Main St. Lampasas\, TX 76550
UID:e.2246.7644
SEQUENCE:3
DTSTAMP:20260423T212743Z
URL:https://business.lampasaschamber.org/events/details/lampasas-county-historical-commission-archaeology-month-in-texas-2019-7644
END:VEVENT

END:VCALENDAR
