BEGIN:VCALENDAR
VERSION:2.0
PRODID:-//ChamberMaster//Event Calendar 2.0//EN
METHOD:PUBLISH
X-PUBLISHED-TTL:P3D
REFRESH-INTERVAL:P3D
CALSCALE:GREGORIAN
BEGIN:VEVENT
DTSTART:20241207T150000Z
DTEND:20241207T190000Z
X-MICROSOFT-CDO-ALLDAYEVENT:FALSE
SUMMARY:Lampasas County Farmers Market & Crafts
DESCRIPTION:CLICK HERE FOR VENDOR INFORMATION
X-ALT-DESC;FMTTYPE=text/html:<a href="https://forms.gle/ncSWgLoWQYNqFvEZ7"><strong><span style="font-size:22px\;">CLICK HERE FOR VENDOR INFORMATION</span></strong></a>
LOCATION:Courthouse Square Downtown Lampasas\, TX
UID:e.2246.10234
SEQUENCE:3
DTSTAMP:20260420T035711Z
URL:https://business.lampasaschamber.org/events/details/lampasas-county-farmers-market-crafts-12-07-2024-10234
END:VEVENT

END:VCALENDAR
