BEGIN:VCALENDAR
VERSION:2.0
PRODID:-//ChamberMaster//Event Calendar 2.0//EN
METHOD:PUBLISH
X-PUBLISHED-TTL:P3D
REFRESH-INTERVAL:P3D
CALSCALE:GREGORIAN
BEGIN:VEVENT
DTSTART:20160319T130000Z
DTEND:20160320T045500Z
X-MICROSOFT-CDO-ALLDAYEVENT:FALSE
SUMMARY:Lampasas County Area Go Texan Night At The Houston Livestock Show & Rodeo
DESCRIPTION:Dust off your hat and shine up those boots!  Lampasas County Area Go Texan Annual Bus Trip to the Houston Livestock Show & Rodeo.  Proceeds benefit Lampasas County youth through scholarships.  $75 per person includes a seat of the chartered bus to Houston\, Rodeo ticket & Brad Paisley concert immediately following.
X-ALT-DESC;FMTTYPE=text/html:Dust off your hat and shine up those boots! &nbsp\;Lampasas County Area Go Texan Annual Bus Trip to the Houston Livestock Show &amp\; Rodeo. &nbsp\;Proceeds benefit Lampasas County youth through scholarships. &nbsp\;$75 per person includes a seat of the chartered bus to Houston\, Rodeo ticket &amp\; Brad Paisley concert immediately following.
LOCATION:Houston Livestock Show & Rodeo
UID:e.2246.771
SEQUENCE:3
DTSTAMP:20260419T231936Z
URL:https://business.lampasaschamber.org/events/details/lampasas-county-area-go-texan-night-at-the-houston-livestock-show-rodeo-03-19-2016-771
END:VEVENT

END:VCALENDAR
