BEGIN:VCALENDAR
VERSION:2.0
PRODID:-//ChamberMaster//Event Calendar 2.0//EN
METHOD:PUBLISH
X-PUBLISHED-TTL:P3D
REFRESH-INTERVAL:P3D
CALSCALE:GREGORIAN
BEGIN:VEVENT
DTSTART:20190925T160000Z
DTEND:20190925T220000Z
X-MICROSOFT-CDO-ALLDAYEVENT:FALSE
SUMMARY:Lampasas Car Care Ribbon Cutting Ceremony 2019
DESCRIPTION:Lampasas Car Care Ribbon Cutting Ceremony
X-ALT-DESC;FMTTYPE=text/html:Lampasas Car Care Ribbon Cutting Ceremony&nbsp\;
LOCATION:208 W. 9th St. Lampasas\, TX 76550
UID:e.2246.7620
SEQUENCE:3
DTSTAMP:20260423T232445Z
URL:https://business.lampasaschamber.org/events/details/lampasas-car-care-ribbon-cutting-ceremony-2019-7620
END:VEVENT

END:VCALENDAR
