BEGIN:VCALENDAR
VERSION:2.0
PRODID:-//ChamberMaster//Event Calendar 2.0//EN
METHOD:PUBLISH
X-PUBLISHED-TTL:P3D
REFRESH-INTERVAL:P3D
CALSCALE:GREGORIAN
BEGIN:VEVENT
DTSTART:20200912T140000Z
DTEND:20200912T230000Z
X-MICROSOFT-CDO-ALLDAYEVENT:FALSE
SUMMARY:Lampasas Beer Barn LTX BBQ FEST- 2020
DESCRIPTION:Lampasas Beer Barn LTX BBQ FEST\n\n\n	$5\,000 guaranteed payout- Judged by Certified Head Judge- Judy Keeney\n	Team Spots Available! Entry Fee $175.00-  Register here: team application\n\nFriday September 11th\n\n\n	Team Load-in (1st come 1st serve)\n\n	\n		 9a (Onsite Registration\, Check-In\, Packet Pick-up & Parking)\n		7p (Tray Pick-up)\n		8p (Cook's Meeting)\n	\n	\n\nSaturday September 12th\n\n\n	Kids 'Que (Max 25 entries) Ages 8-11 & 12-16 Years Old- Register Here: Kids Que\n\n	\n		 3:30p- (Onsite registration\, Check-In & Supply Distribution- Grill\, (2) pork chops and charcoal)\n		4p- Competition Begins\n	\n	\n	Cornhole Tournament - (32 teams)-Register Here: Cornhole Tournament\n	\n		 8a- (Onsite registration\, Check-in & Practice)\n		9a- Tournament Begins\n	\n	\n	 Turn-In Times \n	\n		 10a- Bloody Mary's\n		11a- Beans\n		Noon- Chicken\n		19- Spare Ribs\n		2p- Brisket\n		4:30- Kid's Que\n	\n	\n	Awards immidiately following Kid's Que (All events and categories awarded)\n\n*Prizes awarded for all events and categories\n\nConcessions Available & Vendors onsite!\n\nClick here to register: vendor application\n\n*Due to COVID-19 and in an effort to keep our community safe\, we are encouraging social distancing and the use of face masks when possible. We will have multiple hand sanitizing stations available and will be following safety guidelines for all scheduled activities.\n\nFor information regarding sponsorship or the event\, please call the Chamber directly at:\n\n512-556-5172.
X-ALT-DESC;FMTTYPE=text/html:<div style="text-align: center\;"><span style="color:#8B4513\;"><span style="font-family:tahoma\;"><strong><span style="font-size:24px\;">Lampasas Beer Barn L</span></strong></span></span><strong style="color: rgb(139\, 69\, 19)\; font-family: tahoma\; background-color: rgb(255\, 255\, 255)\; text-align: center\; font-size: 13px\;"><span style="font-size: 24px\;">TX BBQ FEST</span></strong></div>\n\n<ul>\n	<li><span style="color:#8B4513\;">$5\,000 guaranteed payout- Judged by Certified Head Judge- Judy Keeney</span></li>\n	<li><span style="font-family:tahoma\;"><span style="font-size:14px\;"><span style="color: rgb(139\, 69\, 19)\;"><strong>Team Spots Available! Entry Fee $175.00-&nbsp\;</strong></span><span style="color: rgb(139\, 69\, 19)\;"><strong>&#8203\;Register here:<a href="https://chambermaster.blob.core.windows.net/userfiles/UserFiles/chambers/2246/File/Lampasas2020LTXteamregistrationFinal.pdf">&nbsp\;</a></strong></span><a href="https://chambermaster.blob.core.windows.net/userfiles/UserFiles/chambers/2246/File/Lampasas2020LTXteamregistrationFinal.pdf"><strong>team application</strong></a></span></span></li>\n</ul>\n<span style="color:#8B4513\;"><span style="font-family:tahoma\;"><span style="font-size:14px\;"><u><strong>Friday September 11th</strong></u></span></span></span>\n\n<ul>\n	<li><span style="color:#8B4513\;"><span style="font-family:tahoma\;"><span style="font-size:14px\;"><u><strong><span style="color:#8B4513\;"><span style="font-family:tahoma\;"><span style="font-size:14px\;">Team Load-in&nbsp\;</span></span></span></strong><em><span style="color:#8B4513\;"><span style="font-family:tahoma\;"><span style="font-size:14px\;">(1st come 1st serve)</span></span></span></em></u></span></span></span>\n\n	<ul>\n		<li><span style="color:#8B4513\;"><span style="font-family:tahoma\;"><span style="font-size:14px\;"><u><span style="color:#8B4513\;"><span style="font-family:tahoma\;"><span style="font-size:14px\;">&#8203\;</span></span></span></u><span style="color:#8B4513\;"><span style="font-family:tahoma\;"><span style="font-size:14px\;">9a (Onsite Registration\, Check-In\,&nbsp\;Packet Pick-up &amp\; Parking)</span></span></span></span></span></span></li>\n		<li><span style="color: rgb(139\, 69\, 19)\; font-family: tahoma\; font-size: 14px\; background-color: rgb(255\, 255\, 255)\;">7p (Tray Pick-up</span><span style="color: rgb(139\, 69\, 19)\; font-family: tahoma\; font-size: 14px\; background-color: rgb(255\, 255\, 255)\;">)</span></li>\n		<li><span style="color: rgb(139\, 69\, 19)\; font-family: tahoma\; font-size: 14px\; background-color: rgb(255\, 255\, 255)\;">8p (Cook&#39\;s Meeting)</span></li>\n	</ul>\n	</li>\n</ul>\n<u><strong><span style="color:#8B4513\;"><span style="font-family:tahoma\;"><span style="font-size:14px\;">Saturday September 12th</span></span></span></strong></u>\n\n<ul>\n	<li><span style="color:#8B4513\;"><span style="font-family:tahoma\;"><span style="font-size:14px\;">Kids &#39\;Que (Max 25 entries) Ages 8-11 &amp\; 12-16 Years Old-</span></span></span>&nbsp\;<span style="color:#8B4513\;"><span style="font-family:tahoma\;"><span style="font-size:14px\;">Register Here:<a href="https://chambermaster.blob.core.windows.net/userfiles/UserFiles/chambers/2246/File/CornHoleRegistration.pdf">&nbsp\;</a><a href="https://chambermaster.blob.core.windows.net/userfiles/UserFiles/chambers/2246/File/KidsQueFormFinal.pdf">Kids Que</a></span></span></span>\n\n	<ul>\n		<li><span style="color: rgb(139\, 69\, 19)\;"><span style="font-family: tahoma\;"><span style="font-size: 14px\;">&#8203\;3:30p- (Onsite registration\, Check-In &amp\; Supply Distribution- Grill\, (2) pork chops and charcoal)</span></span></span></li>\n		<li><span style="color:#8B4513\;"><span style="font-family:tahoma\;"><span style="font-size:14px\;">4p- Competition Begins</span></span></span></li>\n	</ul>\n	</li>\n	<li><span style="color:#8B4513\;"><span style="font-family:tahoma\;"><span style="font-size:14px\;">Cornhole Tournament - (32 teams)-Register Here:<a href="https://chambermaster.blob.core.windows.net/userfiles/UserFiles/chambers/2246/File/CornHoleRegistration.pdf">&nbsp\;</a><a href="https://chambermaster.blob.core.windows.net/userfiles/UserFiles/chambers/2246/File/CornholeWebsiteRegistrationFinal1.pdf">Cornhole Tournament</a></span></span></span>\n	<ul>\n		<li><span style="color:#8B4513\;"><span style="font-family:tahoma\;"><span style="font-size:14px\;">&#8203\;8a-&nbsp\;(Onsite registration\, Check-in &amp\; Practice)</span></span></span></li>\n		<li><span style="color:#8B4513\;"><span style="font-family:tahoma\;"><span style="font-size:14px\;">9a- Tournament Begins</span></span></span></li>\n	</ul>\n	</li>\n	<li><span style="color:#8B4513\;"><span style="font-family:tahoma\;"><span style="font-size:14px\;">&#8203\;Turn-In Times&nbsp\;</span></span></span>\n	<ul>\n		<li><span style="color:#8B4513\;"><span style="font-family:tahoma\;"><span style="font-size:14px\;">&#8203\;10a- Bloody Mary&#39\;s</span></span></span></li>\n		<li><span style="color:#8B4513\;"><span style="font-family:tahoma\;"><span style="font-size:14px\;">11a- Beans</span></span></span></li>\n		<li><span style="color:#8B4513\;"><span style="font-family:tahoma\;"><span style="font-size:14px\;">Noon- Chicken</span></span></span></li>\n		<li><span style="color:#8B4513\;"><span style="font-family:tahoma\;"><span style="font-size:14px\;">19- Spare Ribs</span></span></span></li>\n		<li><span style="color:#8B4513\;"><span style="font-family:tahoma\;"><span style="font-size:14px\;">2p- Brisket</span></span></span></li>\n		<li><span style="color:#8B4513\;"><span style="font-family:tahoma\;"><span style="font-size:14px\;">4:30- Kid&#39\;s Que</span></span></span></li>\n	</ul>\n	</li>\n	<li><span style="color:#8B4513\;"><span style="font-family:tahoma\;"><span style="font-size:14px\;">Awards immidiately following Kid&#39\;s Que&nbsp\;(All events and categories awarded)</span></span></span></li>\n</ul>\n<span style="color:#8B4513\;"><span style="font-family:tahoma\;"><span style="font-size:14px\;">*Prizes awarded for all events and categories</span></span></span><br />\n<span style="font-size:18px\;"><span style="font-size:20px\;"><span style="font-size:14px\;"><span style="font-family:tahoma\;"><strong><span style="color:#8B4513\;">Concessions Available &amp\; Vendors onsite!<br />\nClick here to register:&nbsp\;</span><a href="https://chambermaster.blob.core.windows.net/userfiles/UserFiles/chambers/2246/File/2020LTXBBQFESTVendorApplicationFinal.pdf">vendor application</a></strong></span></span></span><br />\n<span style="color:#FF0000\;"><em><strong><span style="font-size:14px\;">*Due to COVID-19 and in an effort to keep our community safe\, we are encouraging social distancing and the use of face masks when possible. We will have multiple hand sanitizing stations available and will be following safety guidelines for all scheduled activities.</span></strong></em></span></span><br style="font-size: 18px\;" />\n<strong style="font-size: 18px\;"><span style="font-size: 14px\;">For information regarding sponsorship or the event\, please call the Chamber directly at:<br />\n512-556-5172.&nbsp\;</span></strong><br />\n&nbsp\;
LOCATION:Lampasas County Youth Livestock Center 283 N. Hwy. 183 Lampasas\, TX 76550
UID:e.2246.7677
SEQUENCE:3
DTSTAMP:20260423T032138Z
URL:https://business.lampasaschamber.org/events/details/lampasas-beer-barn-ltx-bbq-fest-2020-7677
END:VEVENT

END:VCALENDAR
