BEGIN:VCALENDAR
VERSION:2.0
PRODID:-//ChamberMaster//Event Calendar 2.0//EN
METHOD:PUBLISH
X-PUBLISHED-TTL:P3D
REFRESH-INTERVAL:P3D
CALSCALE:GREGORIAN
BEGIN:VEVENT
DTSTART:20191114T220000Z
DTEND:20191115T020000Z
X-MICROSOFT-CDO-ALLDAYEVENT:FALSE
SUMMARY:Ladies Night on the Square Hosted By Merk & Tilley's 2019
DESCRIPTION:Ladies Night on the Square \n\nHosted by Merk & Tilley's\n\n\nParticipating locations: Petal Peddler\, Peddlers Alley Shoe Store\, My Girls\, Wool & Vine\, Yumm Again\, Langston Gallery\, Gillens Co-op Mercantile\, Eve's Cafe\, Gabby's Creations and The Trading Post.\n\n\n\nShopping\, Desserts\, Wine\, Music and more.\n\n \n   Music by: Zac & Marci Make Music\n\n\n\nJump from shop to shop and enjoy enjoy all the DownTown Square has to offer!
X-ALT-DESC;FMTTYPE=text/html:<div style="text-align: center\;"><span style="color:#008000\;"><span style="font-family:comic sans ms\;"><span style="font-size:22px\;"><strong>Ladies Night on the Square&nbsp\;<br />\nHosted by Merk &amp\; Tilley&#39\;s</strong></span></span></span></div>\n<br />\n<span style="color:#B22222\;"><span style="font-family:comic sans ms\;"><span style="font-size:20px\;">Participating locations: Petal Peddler\, Peddlers Alley Shoe Store\, My Girls\, Wool &amp\; Vine\, Yumm Again\, Langston Gallery\, Gillens Co-op Mercantile\, Eve&#39\;s Cafe\, Gabby&#39\;s Creations and The Trading Post.</span></span></span><br />\n<br />\n<span style="color:#008000\;"><strong><span style="font-family:comic sans ms\;"><span style="font-size:20px\;">Shopping\, Desserts\, Wine\, Music and more.</span></span></strong></span>\n\n<div style="text-align: center\;">&nbsp\;</div>\n<span style="color:#008000\;"> <strong> <span style="font-family:comic sans ms\;"><span style="font-size:20px\;"> <span background-color:="" comic="" font-size:="" sans="">Music by: Zac &amp\; Marci Make Music</span></span></span></strong></span>\n\n<div style="text-align: center\;"><br />\n<span style="color:#B22222\;"><span style="font-family:comic sans ms\;"><span style="font-size:20px\;">Jump from shop to shop and enjoy enjoy all the DownTown Square has to offer!</span></span></span></div>\n<br />\n&nbsp\;
LOCATION:Lampasas\, Texas Downtown Square
UID:e.2246.7658
SEQUENCE:3
DTSTAMP:20260423T194406Z
URL:https://business.lampasaschamber.org/events/details/ladies-night-on-the-square-hosted-by-merk-tilley-s-2019-7658
END:VEVENT

END:VCALENDAR
