BEGIN:VCALENDAR
VERSION:2.0
PRODID:-//ChamberMaster//Event Calendar 2.0//EN
METHOD:PUBLISH
X-PUBLISHED-TTL:P3D
REFRESH-INTERVAL:P3D
CALSCALE:GREGORIAN
BEGIN:VEVENT
DTSTART:20190618T150000Z
DTEND:20190620T170000Z
X-MICROSOFT-CDO-ALLDAYEVENT:FALSE
SUMMARY:Knitting with Kitty (LCHEC College for Kids 2019)
DESCRIPTION:Learn to knit\, cast on and bind off\; hopefully purl stitch will fit into the allotted schedule.  As time and talent allows\, each student will be able to create: headband\, coaster\, bookmark\, key chain\, coin purse\, bracelet and/or potholder.  Set of knitting needles and yarn provided.  \n\nEach registered student will need to attend all 3 class sessions.
X-ALT-DESC;FMTTYPE=text/html:Learn to knit\, cast on and bind off\; hopefully purl stitch will fit into the allotted schedule.&nbsp\; As time and talent allows\, each student will be able to create: headband\, coaster\, bookmark\, key chain\, coin purse\, bracelet and/or potholder.&nbsp\; Set of knitting needles and yarn provided.&nbsp\;&nbsp\;<br />\n<em>Each registered student will need to attend all 3 class sessions.</em>
LOCATION:LCHEC 208 E Ave. B Lampass\, TX 76550
UID:e.2246.7600
SEQUENCE:3
DTSTAMP:20260424T050320Z
URL:https://business.lampasaschamber.org/events/details/knitting-with-kitty-lchec-college-for-kids-2019-7600
END:VEVENT

END:VCALENDAR
