BEGIN:VCALENDAR
VERSION:2.0
PRODID:-//ChamberMaster//Event Calendar 2.0//EN
METHOD:PUBLISH
X-PUBLISHED-TTL:P3D
REFRESH-INTERVAL:P3D
CALSCALE:GREGORIAN
BEGIN:VEVENT
DTSTART;VALUE=DATE:20240407
DTEND;VALUE=DATE:20240409
TRANSP:TRANSPARENT
X-MICROSOFT-CDO-ALLDAYEVENT:TRUE
SUMMARY:Kfire Winery and Vineyard
DESCRIPTION:www.kfirewineryandvineyard.com\n\nGail Fwoler kfirewinery@yahoo.com
X-ALT-DESC;FMTTYPE=text/html:<a href="http://www.kfirewineryandvineyard.com">www.kfirewineryandvineyard.com</a><br />\nGail Fwoler kfirewinery@yahoo.com<br />\n<br />\n<br />\n&nbsp\;
LOCATION:Kfire Winery and Vineyard 3029 CR 212 Bertram\, TX
UID:e.2246.9996
SEQUENCE:3
DTSTAMP:20260419T140544Z
URL:https://business.lampasaschamber.org/events/details/kfire-winery-and-vineyard-9996
END:VEVENT

END:VCALENDAR
