BEGIN:VCALENDAR
VERSION:2.0
PRODID:-//ChamberMaster//Event Calendar 2.0//EN
METHOD:PUBLISH
X-PUBLISHED-TTL:P3D
REFRESH-INTERVAL:P3D
CALSCALE:GREGORIAN
BEGIN:VEVENT
DTSTART;VALUE=DATE:20240406
DTEND;VALUE=DATE:20240410
TRANSP:TRANSPARENT
X-MICROSOFT-CDO-ALLDAYEVENT:TRUE
SUMMARY:Johnson Acres Eclipse Parking
DESCRIPTION:Self-contained parking ONLY\n\n2 Night Minimum
X-ALT-DESC;FMTTYPE=text/html:Self-contained parking ONLY<br />\n2 Night Minimum
LOCATION:291 PR 2215 (off 281 North) Lampasas\, TX 76550
UID:e.2246.10104
SEQUENCE:3
DTSTAMP:20260419T140414Z
URL:https://business.lampasaschamber.org/events/details/johnson-acres-eclipse-parking-10104
END:VEVENT

END:VCALENDAR
