BEGIN:VCALENDAR
VERSION:2.0
PRODID:-//ChamberMaster//Event Calendar 2.0//EN
METHOD:PUBLISH
X-PUBLISHED-TTL:P3D
REFRESH-INTERVAL:P3D
CALSCALE:GREGORIAN
BEGIN:VEVENT
DTSTART:20190607T150000Z
DTEND:20190607T180000Z
X-MICROSOFT-CDO-ALLDAYEVENT:FALSE
SUMMARY:Job Fair-Lampasas Economic Development Corporation
DESCRIPTION:The Lampasas Economic Development Corporation is hosing its annual Summer Job Fair featuring local businesses from various industries including healthcare\, automotive\, manufacturing\, education\, food and beverage and more ! Spaces are available for hiring businesses.  \n\n\n\nJOB SEEKERS\n\nDon't miss this opportunity! \n\nBring your resume!\n\nOn-the-spot interviews!\n\n\n\nContact Mandy Walsh at\n\nmandy@cityoflampasas.com (512) 556-6831\n\nfor more information or to reserve a space for\n\nyour business.
X-ALT-DESC;FMTTYPE=text/html:<br />\nThe Lampasas Economic Development Corporation is hosing its annual Summer Job Fair featuring local businesses from various industries including healthcare\, automotive\, manufacturing\, education\, food and beverage and more ! Spaces are available for hiring businesses.&nbsp\;&nbsp\;<br />\n<br />\n<strong>JOB SEEKERS</strong><br />\nDon&#39\;t miss this opportunity!&nbsp\;<br />\nBring your resume!<br />\nOn-the-spot interviews!<br />\n<br />\nContact Mandy Walsh at<br />\nmandy@cityoflampasas.com (512) 556-6831<br />\nfor more information or to reserve a space for<br />\nyour business.
LOCATION:Old Middle School Cafeteria 103 N\, Western Lampasas\, TX
UID:e.2246.7583
SEQUENCE:3
DTSTAMP:20260424T070132Z
URL:https://business.lampasaschamber.org/events/details/job-fair-lampasas-economic-development-corporation-7583
END:VEVENT

END:VCALENDAR
