BEGIN:VCALENDAR
VERSION:2.0
PRODID:-//ChamberMaster//Event Calendar 2.0//EN
METHOD:PUBLISH
X-PUBLISHED-TTL:P3D
REFRESH-INTERVAL:P3D
CALSCALE:GREGORIAN
BEGIN:VEVENT
DTSTART:20190913T190000Z
DTEND:20190913T220000Z
X-MICROSOFT-CDO-ALLDAYEVENT:FALSE
SUMMARY:Interlude Spa Ribbon Cutting Ceremony 2019
DESCRIPTION:Interlude Spa Ribbon Cutting Ceremony
X-ALT-DESC;FMTTYPE=text/html:Interlude Spa Ribbon Cutting Ceremony
LOCATION:304 E. Fourth St. Lampasas\, TX 76550
UID:e.2246.7616
SEQUENCE:3
DTSTAMP:20260423T232256Z
URL:https://business.lampasaschamber.org/events/details/interlude-spa-ribbon-cutting-ceremony-2019-7616
END:VEVENT

END:VCALENDAR
