BEGIN:VCALENDAR
VERSION:2.0
PRODID:-//ChamberMaster//Event Calendar 2.0//EN
METHOD:PUBLISH
X-PUBLISHED-TTL:P3D
REFRESH-INTERVAL:P3D
CALSCALE:GREGORIAN
BEGIN:VEVENT
DTSTART:20190921T140000Z
DTEND:20190921T210000Z
X-MICROSOFT-CDO-ALLDAYEVENT:FALSE
SUMMARY:Indian Artifact\, Gem & Mineral Show 2019
DESCRIPTION:Explore our cultural heritage and own a piece of history from a wide array of vendors.  Contact Vision Lampasas for more information or to receive a vendor packet.
X-ALT-DESC;FMTTYPE=text/html:Explore our cultural heritage and own a piece of history from a wide array of vendors.&nbsp\; Contact Vision Lampasas for more information or to receive a vendor packet.&nbsp\;&nbsp\;
LOCATION:Youth Livestock Show Barn S. Hwy 281 Lampasas\, TX
UID:e.2246.7590
SEQUENCE:3
DTSTAMP:20260423T232323Z
URL:https://business.lampasaschamber.org/events/details/indian-artifact-gem-mineral-show-2019-7590
END:VEVENT

END:VCALENDAR
