BEGIN:VCALENDAR
VERSION:2.0
PRODID:-//ChamberMaster//Event Calendar 2.0//EN
METHOD:PUBLISH
X-PUBLISHED-TTL:P3D
REFRESH-INTERVAL:P3D
CALSCALE:GREGORIAN
BEGIN:VEVENT
DTSTART:20191101T143000Z
DTEND:20191101T200000Z
X-MICROSOFT-CDO-ALLDAYEVENT:FALSE
SUMMARY:Hunters Welcome 2019 - Hosted By Lampasas County Chamber of Commerce
DESCRIPTION:Join the Lampasas County Chamber of Commerce & Visitor Center in welcoming the hunters to the Lampasas Communities and enjoy some great BBQ!\n\n\n\nFor a SPONSORSHIP APPLICATION click here\n\nTo place your MEAL ORDER click here
X-ALT-DESC;FMTTYPE=text/html:<span style="font-size:12px\;"><span style="font-family:arial\;">Join the Lampasas County Chamber of Commerce &amp\; Visitor Center in welcoming the hunters to the Lampasas&nbsp\;Communities and enjoy some great BBQ!<br />\n<br />\nFor a SPONSORSHIP APPLICATION <a href="https://chambermaster.blob.core.windows.net/userfiles/UserFiles/chambers/2246/File/2019HuntersSponsorForm.pdf">click here</a></span></span><br />\nTo place your MEAL ORDER <a href="https://chambermaster.blob.core.windows.net/userfiles/UserFiles/chambers/2246/File/2019HuntersOrderForm.pdf">click here</a>
LOCATION:H-E-B parking lot Lampasas\, TX
UID:e.2246.6981
SEQUENCE:3
DTSTAMP:20260423T194605Z
URL:https://business.lampasaschamber.org/events/details/hunters-welcome-2019-hosted-by-lampasas-county-chamber-of-commerce-6981
END:VEVENT

END:VCALENDAR
