BEGIN:VCALENDAR
VERSION:2.0
PRODID:-//ChamberMaster//Event Calendar 2.0//EN
METHOD:PUBLISH
X-PUBLISHED-TTL:P3D
REFRESH-INTERVAL:P3D
CALSCALE:GREGORIAN
BEGIN:VEVENT
DTSTART;VALUE=DATE:20250303
DTEND;VALUE=DATE:20250304
TRANSP:TRANSPARENT
X-MICROSOFT-CDO-ALLDAYEVENT:TRUE
SUMMARY:Host a Pampered Chef Party with me! 3/3-3/31/2025
DESCRIPTION:Interested in hosting a Pampered Chef party? Or joining the Pampered Chef business? I'd love to talk with you. This month\, March\, is a great month to start. If you host a party this month (you can do this online if you choose) and your party has $200 in sales\, you can get 60% off the brand new combined Pampered Chef Air Fryer & Oven. Lots of new products this month and more coming in April!
X-ALT-DESC;FMTTYPE=text/html:Interested in hosting a Pampered Chef party? Or joining the Pampered Chef business? I&#39\;d love to talk with you. This month\, March\, is a great month to start. If you host a party this month (you can do this online if you choose) and your party has $200 in sales\, you can get 60% off the brand new combined Pampered Chef Air Fryer &amp\; Oven. Lots of new products this month and more coming in April!
LOCATION:online
UID:e.2246.10810
SEQUENCE:3
DTSTAMP:20260420T093456Z
URL:https://business.lampasaschamber.org/events/details/host-a-pampered-chef-party-with-me-3-3-3-31-2025-10810
END:VEVENT

END:VCALENDAR
