BEGIN:VCALENDAR
VERSION:2.0
PRODID:-//ChamberMaster//Event Calendar 2.0//EN
METHOD:PUBLISH
X-PUBLISHED-TTL:P3D
REFRESH-INTERVAL:P3D
CALSCALE:GREGORIAN
BEGIN:VEVENT
DTSTART:20191031T223000Z
DTEND:20191101T010000Z
X-MICROSOFT-CDO-ALLDAYEVENT:FALSE
SUMMARY:Happy Halloween - Putters & Gutters Fun Center 2019
DESCRIPTION:Happy Halloween\n\n1st Annual Trunk-Or-Treat\n\n\nCome to Putters & Gutters to end your HALLOWEEN NIGHT night!!\n\nFun for all ages!!\n\nKids Costume Contest at 7:30pm\n\n\n	Games\n	Photo Booth\n	Face Painting\n	Teal Pumpkin Trunk\n	Drinks & Popcorn\n	Free Jukebox Inside
X-ALT-DESC;FMTTYPE=text/html:<div style="text-align: center\;"><span style="color:#000000\;"><strong><span style="font-size:22px\;">Happy Halloween<br />\n1st Annual Trunk-Or-Treat</span></strong></span></div>\n<br />\n<span style="color:#000000\;"><strong><span style="font-size:18px\;">Come to Putters &amp\; Gutters to end your HALLOWEEN NIGHT night!!<br />\nFun for all ages!!<br />\nKids Costume Contest at 7:30pm</span></strong></span>\n\n<ul>\n	<li><span style="color:#000000\;"><strong><span style="font-size:18px\;">Games</span></strong></span></li>\n	<li><span style="color:#000000\;"><strong><span style="font-size:18px\;">Photo Booth</span></strong></span></li>\n	<li><span style="color:#000000\;"><strong><span style="font-size:18px\;">Face Painting</span></strong></span></li>\n	<li><span style="color:#000000\;"><strong><span style="font-size:18px\;">Teal Pumpkin Trunk</span></strong></span></li>\n	<li><span style="color:#000000\;"><strong><span style="font-size:18px\;">Drinks &amp\; Popcorn</span></strong></span></li>\n	<li><span style="color:#000000\;"><strong><span style="font-size:18px\;">Free Jukebox Inside&nbsp\;</span></strong></span></li>\n</ul>\n
LOCATION:Putters & Gutters 2341 S. HWY 281 Lampasas\, TX 76550
UID:e.2246.7655
SEQUENCE:3
DTSTAMP:20260423T213942Z
URL:https://business.lampasaschamber.org/events/details/happy-halloween-putters-gutters-fun-center-2019-7655
END:VEVENT

END:VCALENDAR
