BEGIN:VCALENDAR
VERSION:2.0
PRODID:-//ChamberMaster//Event Calendar 2.0//EN
METHOD:PUBLISH
X-PUBLISHED-TTL:P3D
REFRESH-INTERVAL:P3D
CALSCALE:GREGORIAN
BEGIN:VEVENT
DTSTART;VALUE=DATE:20240805
DTEND;VALUE=DATE:20240806
TRANSP:TRANSPARENT
X-MICROSOFT-CDO-ALLDAYEVENT:TRUE
SUMMARY:Grand Opening 8/5/2024-new date coming soon
DESCRIPTION:Country Kitchen\n\nNew date for the Grand Opening coming soon...
X-ALT-DESC;FMTTYPE=text/html:Country Kitchen<br />\nNew date for the Grand Opening coming soon...
LOCATION:Country Kitchen 307 N. Key Ave. Lampasas\, TX 76550
UID:e.2246.10354
SEQUENCE:3
DTSTAMP:20260419T150348Z
URL:https://business.lampasaschamber.org/events/details/grand-opening-8-5-2024-new-date-coming-soon-10354
END:VEVENT

END:VCALENDAR
