BEGIN:VCALENDAR
VERSION:2.0
PRODID:-//ChamberMaster//Event Calendar 2.0//EN
METHOD:PUBLISH
X-PUBLISHED-TTL:P3D
REFRESH-INTERVAL:P3D
CALSCALE:GREGORIAN
BEGIN:VEVENT
DTSTART:20240929T173000Z
DTEND:20240929T193000Z
X-MICROSOFT-CDO-ALLDAYEVENT:FALSE
SUMMARY:GOSPEL LUNCH 9/29/2024
DESCRIPTION:Wine\, worship and Leola's Kitchen Food Truck. A beautiful way to spend Sunday afternoon. Music by Zach Huckabee from 12:30-2:30 pm.
X-ALT-DESC;FMTTYPE=text/html:Wine\, worship and Leola&#39\;s Kitchen Food Truck. A beautiful way to spend Sunday afternoon. Music by Zach Huckabee from 12:30-2:30 pm.&nbsp\;
LOCATION:Season Three VIneyard
UID:e.2246.10417
SEQUENCE:3
DTSTAMP:20260419T223442Z
URL:https://business.lampasaschamber.org/events/details/gospel-lunch-9-29-2024-10417
END:VEVENT

END:VCALENDAR
