BEGIN:VCALENDAR
VERSION:2.0
PRODID:-//ChamberMaster//Event Calendar 2.0//EN
METHOD:PUBLISH
X-PUBLISHED-TTL:P3D
REFRESH-INTERVAL:P3D
CALSCALE:GREGORIAN
BEGIN:VEVENT
DTSTART:20241025T170000Z
DTEND:20241025T183000Z
X-MICROSOFT-CDO-ALLDAYEVENT:FALSE
SUMMARY:Forward Lampasas 10/25/2024
DESCRIPTION:
X-ALT-DESC;FMTTYPE=text/html:
LOCATION:Lampasas County Chamber of Commerce Community Room 205 S. HWY 281 Lampasas\, TX 76550
UID:e.2246.10462
SEQUENCE:3
DTSTAMP:20260420T002820Z
URL:https://business.lampasaschamber.org/events/details/forward-lampasas-10-25-2024-10462
END:VEVENT

END:VCALENDAR
