BEGIN:VCALENDAR
VERSION:2.0
PRODID:-//ChamberMaster//Event Calendar 2.0//EN
METHOD:PUBLISH
X-PUBLISHED-TTL:P3D
REFRESH-INTERVAL:P3D
CALSCALE:GREGORIAN
BEGIN:VEVENT
DTSTART:20250124T180000Z
DTEND:20250124T193000Z
X-MICROSOFT-CDO-ALLDAYEVENT:FALSE
SUMMARY:Forward Lampasas 1/24/2025
DESCRIPTION:
X-ALT-DESC;FMTTYPE=text/html:
LOCATION:Lampasas County Chamber of Commerce Community Room 205 S. HWY 281 Lampasas\, TX 76550
UID:e.2246.10750
SEQUENCE:3
DTSTAMP:20260420T054602Z
URL:https://business.lampasaschamber.org/events/details/forward-lampasas-1-24-2025-10750
END:VEVENT

END:VCALENDAR
